BEGIN:VCALENDAR
VERSION:2.0
PRODID:-//wp-events-plugin.com//7.2.3.1//EN
TZID:Europe/Paris
X-WR-TIMEZONE:Europe/Paris
BEGIN:VEVENT
UID:3849@agenda24.fr
DTSTART;TZID=Europe/Paris:20241102T113000
DTEND;TZID=Europe/Paris:20241102T120000
DTSTAMP:20241030T085653Z
URL:https://agenda24.fr/evenements/conte-dhalloween-pour-les-3-6-ans-11h30
 /
SUMMARY:Conte d'Halloween pour les 3-6 ans - 11h30
DESCRIPTION:
CATEGORIES:Dédié aux enfants
LOCATION:Quai Cyrano\, 1 rue des Récollets\, Bergerac\, France
GEO:44.8501015;0.48259517
X-APPLE-STRUCTURED-LOCATION;VALUE=URI;X-ADDRESS=1 rue des Récollets\, Berg
 erac\, France;X-APPLE-RADIUS=100;X-TITLE=Quai Cyrano:geo:44.8501015,0.4825
 9517
END:VEVENT
BEGIN:VTIMEZONE
TZID:Europe/Paris
X-LIC-LOCATION:Europe/Paris
BEGIN:STANDARD
DTSTART:20241027T020000
TZOFFSETFROM:+0200
TZOFFSETTO:+0100
TZNAME:CET
END:STANDARD
END:VTIMEZONE
END:VCALENDAR