BEGIN:VCALENDAR
VERSION:2.0
PRODID:-//wp-events-plugin.com//7.2.3.1//EN
TZID:Europe/Paris
X-WR-TIMEZONE:Europe/Paris
BEGIN:VEVENT
UID:11819@agenda24.fr
DTSTART;TZID=Europe/Paris:20260302T203000
DTEND;TZID=Europe/Paris:20260302T203000
DTSTAMP:20260301T135205Z
URL:https://agenda24.fr/evenements/conference-route-de-la-soie/
SUMMARY:Conférence "Route de la soie"
DESCRIPTION:Conférence "Route de la soie" animée par Sonia Breux-Pouxviel
  et proposée par le Club Histoire et Patrimoine à 20h30 à la salle des 
 fêtes : un voyage au fil de l'histoire mais aussi des contrées traversé
 es - Entrée libre
CATEGORIES:Tourisme / Patrimoine
LOCATION:Salle des fêtes\, Salle des fêtes\, La Tour-Blanche\, France
GEO:45.3660258;0.4458158
X-APPLE-STRUCTURED-LOCATION;VALUE=URI;X-ADDRESS=Salle des fêtes\, La Tour-
 Blanche\, France;X-APPLE-RADIUS=100;X-TITLE=Salle des fêtes:geo:45.366025
 8,0.4458158
END:VEVENT
BEGIN:VTIMEZONE
TZID:Europe/Paris
X-LIC-LOCATION:Europe/Paris
BEGIN:STANDARD
DTSTART:20251026T020000
TZOFFSETFROM:+0200
TZOFFSETTO:+0100
TZNAME:CET
END:STANDARD
END:VTIMEZONE
END:VCALENDAR