BEGIN:VCALENDAR
VERSION:2.0
PRODID:-//wp-events-plugin.com//7.2.3.1//EN
TZID:Europe/Paris
X-WR-TIMEZONE:Europe/Paris
BEGIN:VEVENT
UID:5136@agenda24.fr
DTSTART;TZID=Europe/Paris:20250313T180000
DTEND;TZID=Europe/Paris:20250313T180000
DTSTAMP:20250213T093412Z
URL:https://agenda24.fr/evenements/conference-pauline-kergomard-lenfance-a
 u-coeur/
SUMMARY:Conférence - Pauline Kergomard\, l'enfance au coeur
DESCRIPTION:Catherine Valenti consacre une biographie à Pauline Kergomard\
 , pionnière de l'école maternelle et femme d'engagement qui a accompagn
 é le mouvement féministe de la "première vague".\n\nGratuit\, dans la l
 imite des places disponibles.
CATEGORIES:Rencontre / Conférence / Discussion
LOCATION:Amphithéâtre Dordonha\, Place de la petite mission\, Bergerac\, 
 France
GEO:44.8511784;0.48307265
X-APPLE-STRUCTURED-LOCATION;VALUE=URI;X-ADDRESS=Place de la petite mission\
 , Bergerac\, France;X-APPLE-RADIUS=100;X-TITLE=Amphithéâtre Dordonha:geo
 :44.8511784,0.48307265
END:VEVENT
BEGIN:VTIMEZONE
TZID:Europe/Paris
X-LIC-LOCATION:Europe/Paris
BEGIN:STANDARD
DTSTART:20241027T020000
TZOFFSETFROM:+0200
TZOFFSETTO:+0100
TZNAME:CET
END:STANDARD
END:VTIMEZONE
END:VCALENDAR