BEGIN:VCALENDAR
VERSION:2.0
PRODID:-//wp-events-plugin.com//7.2.3.1//EN
TZID:Europe/Paris
X-WR-TIMEZONE:Europe/Paris
BEGIN:VEVENT
UID:5121@agenda24.fr
DTSTART;TZID=Europe/Paris:20250220T183000
DTEND;TZID=Europe/Paris:20250220T183000
DTSTAMP:20250213T093413Z
URL:https://agenda24.fr/evenements/conference-nature-morte/
SUMMARY:Conférence - Nature morte
DESCRIPTION:Virginie Cacouault vous propose une conférence sur le thème "
 Nature morte". Conférence gratuite et sur réservation. \nTout public\, 
 à partir de 15 ans. Durée: 1h30.\n \n
CATEGORIES:Rencontre / Conférence / Discussion
LOCATION:Eglise Notre-Dame\, 2\, rue Puyjoli de Meyjounissas\, Brantôme\, 
 France
GEO:45.3640781;0.64753846
X-APPLE-STRUCTURED-LOCATION;VALUE=URI;X-ADDRESS=2\, rue Puyjoli de Meyjouni
 ssas\, Brantôme\, France;X-APPLE-RADIUS=100;X-TITLE=Eglise Notre-Dame:geo
 :45.3640781,0.64753846
END:VEVENT
BEGIN:VTIMEZONE
TZID:Europe/Paris
X-LIC-LOCATION:Europe/Paris
BEGIN:STANDARD
DTSTART:20241027T020000
TZOFFSETFROM:+0200
TZOFFSETTO:+0100
TZNAME:CET
END:STANDARD
END:VTIMEZONE
END:VCALENDAR