BEGIN:VCALENDAR
VERSION:2.0
PRODID:-//wp-events-plugin.com//7.2.3.1//EN
TZID:Europe/Paris
X-WR-TIMEZONE:Europe/Paris
BEGIN:VEVENT
UID:5132@agenda24.fr
DTSTART;TZID=Europe/Paris:20250314T180000
DTEND;TZID=Europe/Paris:20250314T193000
DTSTAMP:20250213T093413Z
URL:https://agenda24.fr/evenements/conference-lhabitat-rural-ancien/
SUMMARY:Conférence – L’habitat rural ancien
DESCRIPTION:L’habitat rural ancien : sa diversité et son évolution du X
 VIIIe au XXe siècle.\n\nLes différents thèmes abordés sont : – Inven
 taire des bâtiments ruraux en colombage du canton de La Force – Typolog
 ie – Enquête Brard 1835 – Comment dater une ferme ? – Quelques pré
 cisions sur différents bâtiments : grange\, moulin\, bergerie\, clédier
 \, cagadou\, poulailler… – Les différentes sortes de torchis – Les 
 aménagements intérieurs : cheminées\, éviers\, potagers\, portes…\n\
 nAnimé par Marc Bonnier\, agriculteur bergeracois retraité.\nIl n’a ce
 ssé de se passionner pour l’habitat rural du bergeracois\, depuis 1986.
 \n\nSur réservation\, entrée libre
CATEGORIES:Rencontre / Conférence / Discussion
LOCATION:La Micro-Folie de la CAB\, 1 rue des Récollets\, Bergerac\, Franc
 e
GEO:44.8500450;0.4827272
X-APPLE-STRUCTURED-LOCATION;VALUE=URI;X-ADDRESS=1 rue des Récollets\, Berg
 erac\, France;X-APPLE-RADIUS=100;X-TITLE=La Micro-Folie de la CAB:geo:44.8
 500450,0.4827272
END:VEVENT
BEGIN:VTIMEZONE
TZID:Europe/Paris
X-LIC-LOCATION:Europe/Paris
BEGIN:STANDARD
DTSTART:20241027T020000
TZOFFSETFROM:+0200
TZOFFSETTO:+0100
TZNAME:CET
END:STANDARD
END:VTIMEZONE
END:VCALENDAR