BEGIN:VCALENDAR
VERSION:2.0
PRODID:-//wp-events-plugin.com//7.2.3.1//EN
TZID:Europe/Paris
X-WR-TIMEZONE:Europe/Paris
BEGIN:VEVENT
UID:5125@agenda24.fr
DTSTART;TZID=Europe/Paris:20250307T190000
DTEND;TZID=Europe/Paris:20250307T203000
DTSTAMP:20250213T093421Z
URL:https://agenda24.fr/evenements/conference-lamazonie-vue-de-linterieur-
 un-medecin-caraibe-dans-le-xingu/
SUMMARY:Conférence – L'Amazonie vue de l'intérieur - un médecin caraï
 be dans le Xingu
DESCRIPTION:Carlos Wanscheer nous raconte son expérience de médecin aupr
 ès des peuples d’Amazonie. Une découverte des us et coutumes des habit
 ants de la région du Rio Xingu\, ainsi que des enjeux de l’accès à la
  santé dans la forêt brésilienne.\n
CATEGORIES:Rencontre / Conférence / Discussion
LOCATION:Café Le Frugie\, Lieu-dit Le Bourg\, Saint-Pierre-de-Frugie\, Fra
 nce
GEO:45.57257;0.99939
X-APPLE-STRUCTURED-LOCATION;VALUE=URI;X-ADDRESS=Lieu-dit Le Bourg\, Saint-P
 ierre-de-Frugie\, France;X-APPLE-RADIUS=100;X-TITLE=Café Le Frugie:geo:45
 .57257,0.99939
END:VEVENT
BEGIN:VTIMEZONE
TZID:Europe/Paris
X-LIC-LOCATION:Europe/Paris
BEGIN:STANDARD
DTSTART:20241027T020000
TZOFFSETFROM:+0200
TZOFFSETTO:+0100
TZNAME:CET
END:STANDARD
END:VTIMEZONE
END:VCALENDAR