BEGIN:VCALENDAR
VERSION:2.0
PRODID:-//wp-events-plugin.com//7.2.3.1//EN
TZID:Europe/Paris
X-WR-TIMEZONE:Europe/Paris
BEGIN:VEVENT
UID:5134@agenda24.fr
DTSTART;TZID=Europe/Paris:20250213T190000
DTEND;TZID=Europe/Paris:20250213T190000
DTSTAMP:20250213T093412Z
URL:https://agenda24.fr/evenements/conference-la-fabrique-de-la-france-de-
 neandertal-a-notre-dame-de-paris/
SUMMARY:Conférence - La fabrique de la France\, de Néandertal à Notre Da
 me de Paris
DESCRIPTION:Conférence de Dominique Garcia\, Président de l'INRAP.\n\nAuj
 ourd’hui\, grâce au travail des archéologues et des centaines de déco
 uvertes réalisées chaque année\, on peut dérouler un récit illustré 
 de La fabrique de la France : une occupation des territoires des origines 
 aux Temps modernes ?\n\nLa Fabrique de la France\, c’est donc une « lec
 ture » de notre histoire qui fut longtemps amputée de la culture matéri
 elle et que révèlent enfin plus de vingt ans d’archéologie préventiv
 e.\n\nLa conférence sera suivie d'une séance de dédicace des ouvrages d
 e Dominique Garcia.
CATEGORIES:Rencontre / Conférence / Discussion
LOCATION:Pôle d'interprétation de la Préhistoire\, 30 Rue du Moulin\, Le
 s Eyzies\, France
GEO:44.9359424;1.01811996
X-APPLE-STRUCTURED-LOCATION;VALUE=URI;X-ADDRESS=30 Rue du Moulin\, Les Eyzi
 es\, France;X-APPLE-RADIUS=100;X-TITLE=Pôle d'interprétation de la Préh
 istoire:geo:44.9359424,1.01811996
END:VEVENT
BEGIN:VTIMEZONE
TZID:Europe/Paris
X-LIC-LOCATION:Europe/Paris
BEGIN:STANDARD
DTSTART:20241027T020000
TZOFFSETFROM:+0200
TZOFFSETTO:+0100
TZNAME:CET
END:STANDARD
END:VTIMEZONE
END:VCALENDAR