BEGIN:VCALENDAR
VERSION:2.0
PRODID:-//wp-events-plugin.com//7.2.3.1//EN
TZID:Europe/Paris
X-WR-TIMEZONE:Europe/Paris
BEGIN:VEVENT
UID:5137@agenda24.fr
DTSTART;TZID=Europe/Paris:20250215T153000
DTEND;TZID=Europe/Paris:20250215T153000
DTSTAMP:20250213T093412Z
URL:https://agenda24.fr/evenements/conference-la-communication-intuitive-a
 vec-les-animaux/
SUMMARY:Conférence – La communication intuitive avec les animaux
DESCRIPTION:Avec Amandine correspondance animalière\, venez découvrir les
  bienfaits de ce langage oublié\, pour mieux comprendre votre compagnon\,
  retrouver l'harmonie au sein du foyer et l'accompagner dans chaque étape
  de sa vie.
CATEGORIES:Rencontre / Conférence / Discussion
LOCATION:Bibliothèque - médiathèque\, Rue Saint Roch\, Rouffignac-Saint-
 Cernin-de-Reilhac\, France
GEO:45.0492437;0.97354151
X-APPLE-STRUCTURED-LOCATION;VALUE=URI;X-ADDRESS=Rue Saint Roch\, Rouffignac
 -Saint-Cernin-de-Reilhac\, France;X-APPLE-RADIUS=100;X-TITLE=Bibliothèque
  - médiathèque:geo:45.0492437,0.97354151
END:VEVENT
BEGIN:VTIMEZONE
TZID:Europe/Paris
X-LIC-LOCATION:Europe/Paris
BEGIN:STANDARD
DTSTART:20241027T020000
TZOFFSETFROM:+0200
TZOFFSETTO:+0100
TZNAME:CET
END:STANDARD
END:VTIMEZONE
END:VCALENDAR