BEGIN:VCALENDAR
VERSION:2.0
PRODID:-//wp-events-plugin.com//7.2.3.1//EN
TZID:Europe/Paris
X-WR-TIMEZONE:Europe/Paris
BEGIN:VEVENT
UID:9658@agenda24.fr
DTSTART;TZID=Europe/Paris:20251214T110000
DTEND;TZID=Europe/Paris:20251214T123000
DTSTAMP:20251101T090333Z
URL:https://agenda24.fr/evenements/conference-gastronomie-et-arts-de-la-ta
 ble-a-sorges-le-14-decembre-2025/
SUMMARY:Conférence "Gastronomie et Arts de la table" à Sorges le 14 déce
 mbre 2025
DESCRIPTION:Le chef-cuisinier Pierre Corre animera une conférence sur le t
 hème "la Gastronomie et les Arts de la table" qui sera suivie d'une dégu
 station gourmande.\nQuand ? 14 décembre 2025 à 11h\nOù ? Salle des fêt
 es de Sorges\nTarif : Gratuit - Sur inscription\nRenseignements au +33 5 5
 3 05 90 11 \n
CATEGORIES:Rencontre / Conférence / Discussion
LOCATION:Salle des fêtes\, 2 Route des Truffières\, Sorges\, France
GEO:45.3062705;0.87348341
X-APPLE-STRUCTURED-LOCATION;VALUE=URI;X-ADDRESS=2 Route des Truffières\, S
 orges\, France;X-APPLE-RADIUS=100;X-TITLE=Salle des fêtes:geo:45.3062705,
 0.87348341
END:VEVENT
BEGIN:VTIMEZONE
TZID:Europe/Paris
X-LIC-LOCATION:Europe/Paris
BEGIN:STANDARD
DTSTART:20251026T020000
TZOFFSETFROM:+0200
TZOFFSETTO:+0100
TZNAME:CET
END:STANDARD
END:VTIMEZONE
END:VCALENDAR