BEGIN:VCALENDAR
VERSION:2.0
PRODID:-//wp-events-plugin.com//7.2.3.1//EN
TZID:Europe/Paris
X-WR-TIMEZONE:Europe/Paris
BEGIN:VEVENT
UID:5123@agenda24.fr
DTSTART;TZID=Europe/Paris:20250307T203000
DTEND;TZID=Europe/Paris:20250307T203000
DTSTAMP:20250213T093413Z
URL:https://agenda24.fr/evenements/conference-femmes-et-ruralite/
SUMMARY:Conférence – Femmes et ruralité
DESCRIPTION:Conférence : Femmes et ruralité\, les femmes de la Double en 
 lumière en présence de la sénatrice Marie-Claude Varaillas\, auteure du
  livre "Femmes et ruralité" à 20h30 salle Le Lascaux - 06 07 87 81 78
CATEGORIES:Rencontre / Conférence / Discussion
LOCATION:Salle Le Lascaux\, rue Wilson\, Montpon-Ménestérol\, France
GEO:45.0090568;0.15947389
X-APPLE-STRUCTURED-LOCATION;VALUE=URI;X-ADDRESS=rue Wilson\, Montpon-Ménes
 térol\, France;X-APPLE-RADIUS=100;X-TITLE=Salle Le Lascaux:geo:45.0090568
 ,0.15947389
END:VEVENT
BEGIN:VTIMEZONE
TZID:Europe/Paris
X-LIC-LOCATION:Europe/Paris
BEGIN:STANDARD
DTSTART:20241027T020000
TZOFFSETFROM:+0200
TZOFFSETTO:+0100
TZNAME:CET
END:STANDARD
END:VTIMEZONE
END:VCALENDAR