BEGIN:VCALENDAR
VERSION:2.0
PRODID:-//wp-events-plugin.com//7.2.3.1//EN
TZID:Europe/Paris
X-WR-TIMEZONE:Europe/Paris
BEGIN:VEVENT
UID:5107@agenda24.fr
DTSTART;TZID=Europe/Paris:20250215T150000
DTEND;TZID=Europe/Paris:20250215T150000
DTSTAMP:20250213T093421Z
URL:https://agenda24.fr/evenements/conference-dou-venons-nous-une-histoire
 -du-peuplement-du-perigord/
SUMMARY:Conférence - D'où venons-nous ? Une histoire du peuplement du Pé
 rigord
DESCRIPTION:Une Approche du peuplement du Périgord.\nTu veux savoir d'où 
 vient le nom de ton lieu-dit\, de ta commune ? Quelle est son histoire et 
 sa signification ?\nJ.P. DELAGE sera là pour animer cette conférence et 
 répondre à tes questions.\nGratuit.
CATEGORIES:Rencontre / Conférence / Discussion
LOCATION:La Lampe de Génis\, Place de l'église\, Genis\, France
GEO:45.3249407;1.1642005
X-APPLE-STRUCTURED-LOCATION;VALUE=URI;X-ADDRESS=Place de l'église\, Genis\
 , France;X-APPLE-RADIUS=100;X-TITLE=La Lampe de Génis:geo:45.3249407,1.16
 42005
END:VEVENT
BEGIN:VTIMEZONE
TZID:Europe/Paris
X-LIC-LOCATION:Europe/Paris
BEGIN:STANDARD
DTSTART:20241027T020000
TZOFFSETFROM:+0200
TZOFFSETTO:+0100
TZNAME:CET
END:STANDARD
END:VTIMEZONE
END:VCALENDAR