BEGIN:VCALENDAR
VERSION:2.0
PRODID:-//wp-events-plugin.com//7.2.3.1//EN
TZID:Europe/Paris
X-WR-TIMEZONE:Europe/Paris
BEGIN:VEVENT
UID:8327@agenda24.fr
DTSTART;TZID=Europe/Paris:20250919T183000
DTEND;TZID=Europe/Paris:20250919T230000
DTSTAMP:20250907T170736Z
URL:https://agenda24.fr/evenements/conference-debat-dordogne-palestine/
SUMMARY:Conférence débat Dordogne Palestine
DESCRIPTION:Conférence débat d'Agnès Levallois. Vice présidente de l'In
 stitut de recherche et d'études Méditerranée Moyen Orient. Spécialiste
  du Moyen Orient.
ATTACH;FMTTYPE=image/jpeg:https://agenda24.fr/wp-content/uploads/2025/09/I
 MG_0755.jpg
CATEGORIES:Rencontre / Conférence / Discussion
LOCATION:Auditorium\, Place Paul Bert\, Nontron\, France
GEO:45.530402;0.662239
X-APPLE-STRUCTURED-LOCATION;VALUE=URI;X-ADDRESS=Place Paul Bert\, Nontron\,
  France;X-APPLE-RADIUS=100;X-TITLE=Auditorium:geo:45.530402,0.662239
END:VEVENT
BEGIN:VTIMEZONE
TZID:Europe/Paris
X-LIC-LOCATION:Europe/Paris
BEGIN:DAYLIGHT
DTSTART:20250330T030000
TZOFFSETFROM:+0100
TZOFFSETTO:+0200
TZNAME:CEST
END:DAYLIGHT
END:VTIMEZONE
END:VCALENDAR