BEGIN:VCALENDAR
VERSION:2.0
PRODID:-//wp-events-plugin.com//7.2.3.1//EN
TZID:Europe/Paris
X-WR-TIMEZONE:Europe/Paris
BEGIN:VEVENT
UID:5122@agenda24.fr
DTSTART;TZID=Europe/Paris:20250213T200000
DTEND;TZID=Europe/Paris:20250213T200000
DTSTAMP:20250213T093413Z
URL:https://agenda24.fr/evenements/conference-comprendre-lagressivite-de-l
 enfant-2/
SUMMARY:Conférence – Comprendre l'agressivité de l'enfant
DESCRIPTION:« L'agressivité de mon enfant : la comprendre pour mieux l'ac
 compagner »\, par Héloïse Junier\, docteur en psychologie de l’enfant
 . \n\nLes manifestations d’agressivité sont fréquentes et bénignes du
 rant la petite enfance. Pour autant\, elles peuvent mettre les adultes\, p
 arents et professionnels\, en grande difficulté ! Les recherches scientif
 iques nous indiquent que l’évolution de cette agressivité dépend en g
 rande partie de l’entourage de l’enfant\, de ses réactions. Comment r
 éagir quand un enfant a un comportement agressif ? Quand s'inquiéter ?\n
 \n20h (accueil du public à partir de 19h30)\, salle des fêtes. \nEntrée
  libre. Inscription conseillée.\n\nRelais Petite Enfance CCIVS : 06 77 74
  91 73 \nInscription : https://50q6ia80.forms.app/inscription-la-conferenc
 e-sur-la-petite-enfance\n
CATEGORIES:Rencontre / Conférence / Discussion
LOCATION:Salle des fêtes\, Salle des fêtes\, Saint-Leon-sur-L'isle\, Fran
 ce
GEO:45.1153710;0.49864877
X-APPLE-STRUCTURED-LOCATION;VALUE=URI;X-ADDRESS=Salle des fêtes\, Saint-Le
 on-sur-L'isle\, France;X-APPLE-RADIUS=100;X-TITLE=Salle des fêtes:geo:45.
 1153710,0.49864877
END:VEVENT
BEGIN:VTIMEZONE
TZID:Europe/Paris
X-LIC-LOCATION:Europe/Paris
BEGIN:STANDARD
DTSTART:20241027T020000
TZOFFSETFROM:+0200
TZOFFSETTO:+0100
TZNAME:CET
END:STANDARD
END:VTIMEZONE
END:VCALENDAR