BEGIN:VCALENDAR
VERSION:2.0
PRODID:-//wp-events-plugin.com//7.2.3.1//EN
TZID:Europe/Paris
X-WR-TIMEZONE:Europe/Paris
BEGIN:VEVENT
UID:5131@agenda24.fr
DTSTART;TZID=Europe/Paris:20250215T150000
DTEND;TZID=Europe/Paris:20250215T150000
DTSTAMP:20250213T093412Z
URL:https://agenda24.fr/evenements/conference-au-temps-des-troubadours-2/
SUMMARY:Conférence - Au temps des troubadours
DESCRIPTION:Conférence animée par Jean-François Gareytte.\nEntrée gratu
 ite et ouverte à tous.
CATEGORIES:Rencontre / Conférence / Discussion
LOCATION:Salle espace du temps libre\, 57 Rue du Quatre Septembre\, Montign
 ac\, France
GEO:45.06466;1.16417
X-APPLE-STRUCTURED-LOCATION;VALUE=URI;X-ADDRESS=57 Rue du Quatre Septembre\
 , Montignac\, France;X-APPLE-RADIUS=100;X-TITLE=Salle espace du temps libr
 e:geo:45.06466,1.16417
END:VEVENT
BEGIN:VTIMEZONE
TZID:Europe/Paris
X-LIC-LOCATION:Europe/Paris
BEGIN:STANDARD
DTSTART:20241027T020000
TZOFFSETFROM:+0200
TZOFFSETTO:+0100
TZNAME:CET
END:STANDARD
END:VTIMEZONE
END:VCALENDAR