BEGIN:VCALENDAR
VERSION:2.0
PRODID:-//wp-events-plugin.com//7.2.3.1//EN
TZID:Europe/Paris
X-WR-TIMEZONE:Europe/Paris
BEGIN:VEVENT
UID:5130@agenda24.fr
DTSTART;TZID=Europe/Paris:20250228T203000
DTEND;TZID=Europe/Paris:20250228T203000
DTSTAMP:20250213T093412Z
URL:https://agenda24.fr/evenements/conference-au-temps-de-jeanne-dalbret/
SUMMARY:Conférence - Au temps de Jeanne d'Albret
DESCRIPTION:Conférence animée par Jean-François Gareyte\, médiateur pou
 r l'Agence Culturelle Dordogne\n\n" En France\, au XVIè siècle\, une nou
 velle guerre de religion se met en place entre catholiques et huguenots (p
 rotestants). Les grands capitaines et écrivains du Périgord ont joué un
  rôle majeur au cours des évènements qui amèneront Henri III de Navarr
 e\, comte de Foix du Périgord et du limousin\, fils de Jeanne d'Albret su
 r le trône de France sous le nom d'Henri IV de France et de Navarre."
CATEGORIES:Rencontre / Conférence / Discussion
LOCATION:Salle de convivialité\, 46 rue de la brasserie\, Coly\, France
GEO:45.0849013;1.26782896
X-APPLE-STRUCTURED-LOCATION;VALUE=URI;X-ADDRESS=46 rue de la brasserie\, Co
 ly\, France;X-APPLE-RADIUS=100;X-TITLE=Salle de convivialité:geo:45.08490
 13,1.26782896
END:VEVENT
BEGIN:VTIMEZONE
TZID:Europe/Paris
X-LIC-LOCATION:Europe/Paris
BEGIN:STANDARD
DTSTART:20241027T020000
TZOFFSETFROM:+0200
TZOFFSETTO:+0100
TZNAME:CET
END:STANDARD
END:VTIMEZONE
END:VCALENDAR