BEGIN:VCALENDAR
VERSION:2.0
PRODID:-//wp-events-plugin.com//7.2.3.1//EN
TZID:Europe/Paris
X-WR-TIMEZONE:Europe/Paris
BEGIN:VEVENT
UID:3871@agenda24.fr
DTSTART;TZID=Europe/Paris:20241109T180000
DTEND;TZID=Europe/Paris:20241109T180000
DTSTAMP:20241030T085627Z
URL:https://agenda24.fr/evenements/concours-de-soupe/
SUMMARY:Concours de soupe
DESCRIPTION:
CATEGORIES:Evènement à thème
LOCATION:salle de Montcigoux\, salle de Montcigoux\, Saint-Pierre-de-Frugie
 \, France
GEO:45.60494;1.00318
X-APPLE-STRUCTURED-LOCATION;VALUE=URI;X-ADDRESS=salle de Montcigoux\, Saint
 -Pierre-de-Frugie\, France;X-APPLE-RADIUS=100;X-TITLE=salle de Montcigoux:
 geo:45.60494,1.00318
END:VEVENT
BEGIN:VTIMEZONE
TZID:Europe/Paris
X-LIC-LOCATION:Europe/Paris
BEGIN:STANDARD
DTSTART:20241027T020000
TZOFFSETFROM:+0200
TZOFFSETTO:+0100
TZNAME:CET
END:STANDARD
END:VTIMEZONE
END:VCALENDAR