BEGIN:VCALENDAR
VERSION:2.0
PRODID:-//wp-events-plugin.com//7.2.3.1//EN
TZID:Europe/Paris
X-WR-TIMEZONE:Europe/Paris
BEGIN:VEVENT
UID:10315@agenda24.fr
DTSTART;TZID=Europe/Paris:20251219T210000
DTEND;TZID=Europe/Paris:20251219T210000
DTSTAMP:20251210T134620Z
URL:https://agenda24.fr/evenements/concours-de-belote-57/
SUMMARY:Concours de belote
DESCRIPTION:Le Comité des fêtes de Saint-Aubin-de-Lanquais et/ou l'Amical
 e des Propriétaires et Chasseurs de Saint-Aubin-de-Lanquais vous invitent
  à leur concours de belote. \n1 lot à chaque participant.\nBuvette - sou
 pe.
CATEGORIES:Jeux
LOCATION:Salle des fêtes\, Le Bourg\, Saint-Aubin-de-Lanquais\, France
GEO:44.7943564;0.5942081
X-APPLE-STRUCTURED-LOCATION;VALUE=URI;X-ADDRESS=Le Bourg\, Saint-Aubin-de-L
 anquais\, France;X-APPLE-RADIUS=100;X-TITLE=Salle des fêtes:geo:44.794356
 4,0.5942081
END:VEVENT
BEGIN:VTIMEZONE
TZID:Europe/Paris
X-LIC-LOCATION:Europe/Paris
BEGIN:STANDARD
DTSTART:20251026T020000
TZOFFSETFROM:+0200
TZOFFSETTO:+0100
TZNAME:CET
END:STANDARD
END:VTIMEZONE
END:VCALENDAR