BEGIN:VCALENDAR
VERSION:2.0
PRODID:-//wp-events-plugin.com//7.2.3.1//EN
TZID:Europe/Paris
X-WR-TIMEZONE:Europe/Paris
BEGIN:VEVENT
UID:10318@agenda24.fr
DTSTART;TZID=Europe/Paris:20251220T203000
DTEND;TZID=Europe/Paris:20251220T203000
DTSTAMP:20251210T134619Z
URL:https://agenda24.fr/evenements/concours-de-belote-56/
SUMMARY:Concours de belote
DESCRIPTION:Concours de belote organisé par le club de pétanque de Saint 
 Léon sur Vézère\n\nNombreux lots à gagner : canard gras\, apéritifs\,
  filets garnis...\n\nTourin et casse-croûte en fin de soirée.\nTombola -
  buvette
CATEGORIES:Jeux
LOCATION:Salle des fêtes\, Lieu-dit Le Bourg\, Saint-Leon-sur-Vezere\, Fra
 nce
GEO:45.0111324;1.08958597
X-APPLE-STRUCTURED-LOCATION;VALUE=URI;X-ADDRESS=Lieu-dit Le Bourg\, Saint-L
 eon-sur-Vezere\, France;X-APPLE-RADIUS=100;X-TITLE=Salle des fêtes:geo:45
 .0111324,1.08958597
END:VEVENT
BEGIN:VTIMEZONE
TZID:Europe/Paris
X-LIC-LOCATION:Europe/Paris
BEGIN:STANDARD
DTSTART:20251026T020000
TZOFFSETFROM:+0200
TZOFFSETTO:+0100
TZNAME:CET
END:STANDARD
END:VTIMEZONE
END:VCALENDAR