BEGIN:VCALENDAR
VERSION:2.0
PRODID:-//wp-events-plugin.com//7.2.3.1//EN
TZID:Europe/Paris
X-WR-TIMEZONE:Europe/Paris
BEGIN:VEVENT
UID:5926@agenda24.fr
DTSTART;TZID=Europe/Paris:20250413T143000
DTEND;TZID=Europe/Paris:20250413T143000
DTSTAMP:20250326T140656Z
URL:https://agenda24.fr/evenements/concours-de-belote-37/
SUMMARY:Concours de belote
DESCRIPTION:Ouverture des portes 13h30\nNombreux lots dont deux cochons à 
 la découpe\nInscription  : 10€\nOrganisé par la FNACA
CATEGORIES:Jeux
LOCATION:Salle du Minage\, Salle du Minage\, Piegut-Pluviers\, France
GEO:45.6221105;0.69162843
X-APPLE-STRUCTURED-LOCATION;VALUE=URI;X-ADDRESS=Salle du Minage\, Piegut-Pl
 uviers\, France;X-APPLE-RADIUS=100;X-TITLE=Salle du Minage:geo:45.6221105,
 0.69162843
END:VEVENT
BEGIN:VTIMEZONE
TZID:Europe/Paris
X-LIC-LOCATION:Europe/Paris
BEGIN:DAYLIGHT
DTSTART:20250330T030000
TZOFFSETFROM:+0100
TZOFFSETTO:+0200
TZNAME:CEST
END:DAYLIGHT
END:VTIMEZONE
END:VCALENDAR