BEGIN:VCALENDAR
VERSION:2.0
PRODID:-//wp-events-plugin.com//7.2.3.1//EN
TZID:Europe/Paris
X-WR-TIMEZONE:Europe/Paris
BEGIN:VEVENT
UID:3897@agenda24.fr
DTSTART;TZID=Europe/Paris:20241207T193000
DTEND;TZID=Europe/Paris:20241207T193000
DTSTAMP:20241030T085618Z
URL:https://agenda24.fr/evenements/concours-de-belote-23/
SUMMARY:Concours de belote
DESCRIPTION:
CATEGORIES:Jeux
LOCATION:Salle des fêtes\, Salle des fêtes\, Saint-Martin-de-Gurson\, Fra
 nce
GEO:44.95166;0.10876
X-APPLE-STRUCTURED-LOCATION;VALUE=URI;X-ADDRESS=Salle des fêtes\, Saint-Ma
 rtin-de-Gurson\, France;X-APPLE-RADIUS=100;X-TITLE=Salle des fêtes:geo:44
 .95166,0.10876
END:VEVENT
BEGIN:VTIMEZONE
TZID:Europe/Paris
X-LIC-LOCATION:Europe/Paris
BEGIN:STANDARD
DTSTART:20241027T020000
TZOFFSETFROM:+0200
TZOFFSETTO:+0100
TZNAME:CET
END:STANDARD
END:VTIMEZONE
END:VCALENDAR