BEGIN:VCALENDAR
VERSION:2.0
PRODID:-//wp-events-plugin.com//7.2.3.1//EN
TZID:Europe/Paris
X-WR-TIMEZONE:Europe/Paris
BEGIN:VEVENT
UID:3909@agenda24.fr
DTSTART;TZID=Europe/Paris:20241116T133000
DTEND;TZID=Europe/Paris:20241116T133000
DTSTAMP:20241030T085618Z
URL:https://agenda24.fr/evenements/concours-de-belote-22/
SUMMARY:Concours de belote
DESCRIPTION:
CATEGORIES:Jeux
LOCATION:Foyer communal\, Foyer communal\, Saint-Martial-D'artenset\, Franc
 e
GEO:45.0163084;0.20450522
X-APPLE-STRUCTURED-LOCATION;VALUE=URI;X-ADDRESS=Foyer communal\, Saint-Mart
 ial-D'artenset\, France;X-APPLE-RADIUS=100;X-TITLE=Foyer communal:geo:45.0
 163084,0.20450522
END:VEVENT
BEGIN:VTIMEZONE
TZID:Europe/Paris
X-LIC-LOCATION:Europe/Paris
BEGIN:STANDARD
DTSTART:20241027T020000
TZOFFSETFROM:+0200
TZOFFSETTO:+0100
TZNAME:CET
END:STANDARD
END:VTIMEZONE
END:VCALENDAR