BEGIN:VCALENDAR
VERSION:2.0
PRODID:-//wp-events-plugin.com//7.2.3.1//EN
TZID:Europe/Paris
X-WR-TIMEZONE:Europe/Paris
BEGIN:VEVENT
UID:5729@agenda24.fr
DTSTART;TZID=Europe/Paris:20250427T170000
DTEND;TZID=Europe/Paris:20250427T170000
DTSTAMP:20250326T135042Z
URL:https://agenda24.fr/evenements/concert-vox-vesunna-eglise-saint-george
 s/
SUMMARY:Concert Vox Vesunna - Eglise Saint-Georges
DESCRIPTION:VOX VESUNNA\, le seul chœur d’hommes du Périgord a été cr
 éé en 2007\, par Alain DELAMARRE (artiste lyrique) et Dominique SABY (di
 recteur du Conservatoire de Musiques et Danses de Périgueux)Nous produiso
 ns en moyenne 10 concerts par an. Nous fêterons en 2025 notre 200ème con
 cert.Le répertoire « Musiques pour Tous » s’enrichit chaque année de
  nouveaux morceaux dont certains sont chantés « à capella »\, composé
  de chants traditionnels du monde :-Basques\, Corses\, Allemands\, chants 
 sacrés\, classiques\, lyriques\, chœurs d’opéra.Notre association rec
 onnue d’utilité publique depuis 2022\, délivre des reçus fiscaux aux 
 généreux donateurs.Notre objet est de promouvoir les activités culturel
 les et le chant choral sur notre région et dans les départements limitro
 phes\, ainsi qu’en milieu rural à des prix abordables \; créer un lien
  social \; aider les associations à visée caritative. 
CATEGORIES:Concert
LOCATION:Place de l'Église Saint-Georges\, Place de l'Église Saint-George
 s\, Périgueux\, France
GEO:45.1796103;0.72869702
X-APPLE-STRUCTURED-LOCATION;VALUE=URI;X-ADDRESS=Place de l'Église Saint-Ge
 orges\, Périgueux\, France;X-APPLE-RADIUS=100;X-TITLE=Place de l'Église 
 Saint-Georges:geo:45.1796103,0.72869702
END:VEVENT
BEGIN:VTIMEZONE
TZID:Europe/Paris
X-LIC-LOCATION:Europe/Paris
BEGIN:DAYLIGHT
DTSTART:20250330T030000
TZOFFSETFROM:+0100
TZOFFSETTO:+0200
TZNAME:CEST
END:DAYLIGHT
END:VTIMEZONE
END:VCALENDAR