BEGIN:VCALENDAR
VERSION:2.0
PRODID:-//wp-events-plugin.com//7.2.3.1//EN
TZID:Europe/Paris
X-WR-TIMEZONE:Europe/Paris
BEGIN:VEVENT
UID:5759@agenda24.fr
DTSTART;TZID=Europe/Paris:20250329T200000
DTEND;TZID=Europe/Paris:20250329T200000
DTSTAMP:20250326T135034Z
URL:https://agenda24.fr/evenements/concert-tigre-qui-pleure-el-gato-negro/
SUMMARY:Concert - Tigre qui pleure "EL GATO NEGRO"
DESCRIPTION:Tout le monde le sait\, Toulouse\, dans le sud-ouest de la Fran
 ce\, a accouché de bien des chanteurs et musiciens de talent. Voici l'un 
 de ses rejetons\, un chat noir tendance baroudeur porte-bonheur\, qui a pr
 is l’habitude de s’échapper des toits de la ville rose pour courir le
  monde. Inépuisable voyageur\, c’est à Dakar que s’est arrêté El G
 ato Negro pour enregistrer Tigre Qui Pleure.\n\nAxel\, alias El Gato Negro
 \, déploie sur son nouvel album   produit par Guts\, une profondeur music
 ale inattendue\, combinant douceur et complexité dans ses messages. Sa to
 urnée réunit Salif Diarra\, Mary May et Pablo Senties\, mélangeant les 
 influences mandingues\, le rap et les percussions afro-latines.\n\nDe « C
 umbia Libre » à ses engagements avec Amnesty International\, El Gato Neg
 ro a honoré les musiques latines et exploré les sonorités électronique
 s\, laissant son empreinte partout où il a vécu.
CATEGORIES:Concert
LOCATION:Centre Culturel\, Centre Culturel\, Sarlat-la-Caneda\, France
GEO:44.890891;1.217292
X-APPLE-STRUCTURED-LOCATION;VALUE=URI;X-ADDRESS=Centre Culturel\, Sarlat-la
 -Caneda\, France;X-APPLE-RADIUS=100;X-TITLE=Centre Culturel:geo:44.890891,
 1.217292
END:VEVENT
BEGIN:VTIMEZONE
TZID:Europe/Paris
X-LIC-LOCATION:Europe/Paris
BEGIN:STANDARD
DTSTART:20241027T020000
TZOFFSETFROM:+0200
TZOFFSETTO:+0100
TZNAME:CET
END:STANDARD
END:VTIMEZONE
END:VCALENDAR