BEGIN:VCALENDAR
VERSION:2.0
PRODID:-//wp-events-plugin.com//7.2.3.1//EN
TZID:Europe/Paris
X-WR-TIMEZONE:Europe/Paris
BEGIN:VEVENT
UID:5752@agenda24.fr
DTSTART;TZID=Europe/Paris:20250404T203000
DTEND;TZID=Europe/Paris:20250404T203000
DTSTAMP:20250326T135034Z
URL:https://agenda24.fr/evenements/concert-teresa-yanet-y-su-kimbara-latin
 -project/
SUMMARY:Concert - Teresa Yanet y su Kimbara Latin Project
DESCRIPTION:Programmation culturelle de la Communauté de communes Isle Lou
 e Auvézère en Périgord JUSTE POUR VOUS.\nMusique latino.\nDepuis sa jeu
 nesse\, Teresa\, enfant de la Havane\,pratique la musique sous toutes ses 
 formes : formation de chant classique au conservatoire\, comédies musical
 es\, expression traditionnelle cubaine. Compositrice\, elle a écrit plusi
 eurs bandes originales pour des feuilletons TV cubains\, gagnant au passag
 e un grand prix de musique de variété dans son pays.\nInstallée à Barc
 elone depuis près de deux ans\, elle développe sa carrière professionne
 lle dans la ville\ncatalane et tisse de nombreux liens musicaux dans le pa
 ys. Durant l’été 2023\, elle a été l’invitée du\nprestigieux inte
 rprète Jordi Savall lors de son festival dédié aux musiques sacrées du
  monde. Elle présentait en trio son concert «Yambambo» honorant les «C
 hants Nègres de Cuba»...
CATEGORIES:Concert
LOCATION:Salle du château\, Salle du château\, Excideuil\, France
GEO:45.33614;1.05006
X-APPLE-STRUCTURED-LOCATION;VALUE=URI;X-ADDRESS=Salle du château\, Excideu
 il\, France;X-APPLE-RADIUS=100;X-TITLE=Salle du château:geo:45.33614,1.05
 006
END:VEVENT
BEGIN:VTIMEZONE
TZID:Europe/Paris
X-LIC-LOCATION:Europe/Paris
BEGIN:DAYLIGHT
DTSTART:20250330T030000
TZOFFSETFROM:+0100
TZOFFSETTO:+0200
TZNAME:CEST
END:DAYLIGHT
END:VTIMEZONE
END:VCALENDAR