BEGIN:VCALENDAR
VERSION:2.0
PRODID:-//wp-events-plugin.com//7.2.3.1//EN
TZID:Europe/Paris
X-WR-TIMEZONE:Europe/Paris
BEGIN:VEVENT
UID:8350@agenda24.fr
DTSTART;TZID=Europe/Paris:20250920T203000
DTEND;TZID=Europe/Paris:20250920T223000
DTSTAMP:20250909T224803Z
URL:https://agenda24.fr/evenements/concert-soul-kitchen-cafe-lib/
SUMMARY:Concert - Soul Kitchen - Café Lib
DESCRIPTION:Notre Soul band propose un show magique et énergique avec 2 so
 ul star sisters aux\nvoix sensuelles et envoûtantes. Groupe de live\, nos
  concerts sont des moments\nsuspendus\, explosifs\, élégants\, émouvant
 s… Une incantation à l'amour\, la joie\, la\ndanse\, l'espoir\, au plai
 sir\, au groove\, au partage\, au lâcher prise\, au rêve… En\nrésumé
  c’est la chance de ressentir du bonheur pendant un concert mémorable
 …\nNous jouons des compositions originales\, des classiques (Aretha Fran
 klin\, Ike &amp\; Tina\nTurner\, Sam and Dave...)\, et des morceaux plus c
 onfidentiels (Gloria Jones\, Nolan\nPorter\, Edwin Starr...).
CATEGORIES:Concert
LOCATION:Le Café lib\, route d'Amédée\, BOURROU\, dordogne\, 24110\, Fra
 nce
X-APPLE-STRUCTURED-LOCATION;VALUE=URI;X-ADDRESS=route d'Amédée\, BOURROU\
 , dordogne\, 24110\, France;X-APPLE-RADIUS=100;X-TITLE=Le Café lib:geo:0,
 0
END:VEVENT
BEGIN:VTIMEZONE
TZID:Europe/Paris
X-LIC-LOCATION:Europe/Paris
BEGIN:DAYLIGHT
DTSTART:20250330T030000
TZOFFSETFROM:+0100
TZOFFSETTO:+0200
TZNAME:CEST
END:DAYLIGHT
END:VTIMEZONE
END:VCALENDAR