BEGIN:VCALENDAR
VERSION:2.0
PRODID:-//wp-events-plugin.com//7.2.3.1//EN
TZID:Europe/Paris
X-WR-TIMEZONE:Europe/Paris
BEGIN:VEVENT
UID:5758@agenda24.fr
DTSTART;TZID=Europe/Paris:20250408T101500
DTEND;TZID=Europe/Paris:20250408T101500
DTSTAMP:20250326T135034Z
URL:https://agenda24.fr/evenements/concert-seances-scolaires-tourne-sol/
SUMMARY:Concert -  séances scolaires "TOURNE SOL"
DESCRIPTION:PLUIE DE NOTES POUR DUO SOLAIRE\nQuand deux musiciennes issues 
 du très classique conservatoire décident de créer à la manière d’un
  groupe de pop\, elles balaient sur leur passage les idées reçues et les
  clichés sur leurs instruments.\nC’est l’œil complice et la moue esp
 iègle que ces deux amies dévoilent leurs morceaux aux mélodies colorée
 s et entraînantes\, passant d’atmosphères sonores oniriques à un envi
 ronnement maritime mouvementé pour retrouver la terre ferme et ses ambian
 ces doucement contemporaines… Tourne Sol est un duo étonnant qui réuni
 t l’accordéon\, la contrebasse et la voix pour des compositions délici
 eusement modernes et pop.\nDos ou face au soleil\, peu importe\, le tourne
 sol est le symbole d’un monde qui se tourne vers l’autre. 
CATEGORIES:Concert
LOCATION:Centre Culturel\, Centre Culturel\, Sarlat-la-Caneda\, France
GEO:44.890891;1.217292
X-APPLE-STRUCTURED-LOCATION;VALUE=URI;X-ADDRESS=Centre Culturel\, Sarlat-la
 -Caneda\, France;X-APPLE-RADIUS=100;X-TITLE=Centre Culturel:geo:44.890891,
 1.217292
END:VEVENT
BEGIN:VTIMEZONE
TZID:Europe/Paris
X-LIC-LOCATION:Europe/Paris
BEGIN:DAYLIGHT
DTSTART:20250330T030000
TZOFFSETFROM:+0100
TZOFFSETTO:+0200
TZNAME:CEST
END:DAYLIGHT
END:VTIMEZONE
END:VCALENDAR