BEGIN:VCALENDAR
VERSION:2.0
PRODID:-//wp-events-plugin.com//7.2.3.1//EN
TZID:Europe/Paris
X-WR-TIMEZONE:Europe/Paris
BEGIN:VEVENT
UID:8323@agenda24.fr
DTSTART;TZID=Europe/Paris:20251024T203000
DTEND;TZID=Europe/Paris:20251024T230000
DTSTAMP:20250907T164151Z
URL:https://agenda24.fr/evenements/concert-manouche-ginguette-du-touroulet
 /
SUMMARY:Concert manouche - Ginguette du Touroulet
DESCRIPTION:Concert manouche avec KAPELA
CATEGORIES:Concert
LOCATION:Le cocon des canailles\, Le cocon des canailles\, Chalais\, France
GEO:45.50201;0.91325
X-APPLE-STRUCTURED-LOCATION;VALUE=URI;X-ADDRESS=Le cocon des canailles\, Ch
 alais\, France;X-APPLE-RADIUS=100;X-TITLE=Le cocon des canailles:geo:45.50
 201,0.91325
END:VEVENT
BEGIN:VTIMEZONE
TZID:Europe/Paris
X-LIC-LOCATION:Europe/Paris
BEGIN:DAYLIGHT
DTSTART:20250330T030000
TZOFFSETFROM:+0100
TZOFFSETTO:+0200
TZNAME:CEST
END:DAYLIGHT
END:VTIMEZONE
END:VCALENDAR