BEGIN:VCALENDAR
VERSION:2.0
PRODID:-//wp-events-plugin.com//7.2.3.1//EN
TZID:Europe/Paris
X-WR-TIMEZONE:Europe/Paris
BEGIN:VEVENT
UID:5747@agenda24.fr
DTSTART;TZID=Europe/Paris:20250419T210000
DTEND;TZID=Europe/Paris:20250419T210000
DTSTAMP:20250326T135042Z
URL:https://agenda24.fr/evenements/concert-lofofora-1ere-partie/
SUMMARY:Concert Lofofora + 1ère partie
DESCRIPTION:Lofofora : groupe de musique Métal-punk aux embruns groove qui
 \, depuis plus de trente ans\, dézingue une à une les aberrations de cet
 te époque et les absurdités d’un monde dans lequel il tient le cap de 
 l’alternative. Véritable phoenix de la rage\, Lofofora persiste et sign
 e pour maintenir l’idée que l’art -et la musique au 1er rang- doit re
 ster le miroir d’un monde et de ses sociétés.\n\n21h\, centre culturel
 \nTarifs : 20 €–18 €–16 €\nConcert debout\, 140 places assises a
 u balcon (sur réservation)\n\nLa Fabrique 05 53 02 41 99
CATEGORIES:Concert
LOCATION:Centre culturel La Fabrique\, Rue Amiral Courbet\, Saint-Astier\, 
 France
GEO:45.1449038;0.52668697
X-APPLE-STRUCTURED-LOCATION;VALUE=URI;X-ADDRESS=Rue Amiral Courbet\, Saint-
 Astier\, France;X-APPLE-RADIUS=100;X-TITLE=Centre culturel La Fabrique:geo
 :45.1449038,0.52668697
END:VEVENT
BEGIN:VTIMEZONE
TZID:Europe/Paris
X-LIC-LOCATION:Europe/Paris
BEGIN:DAYLIGHT
DTSTART:20250330T030000
TZOFFSETFROM:+0100
TZOFFSETTO:+0200
TZNAME:CEST
END:DAYLIGHT
END:VTIMEZONE
END:VCALENDAR