BEGIN:VCALENDAR
VERSION:2.0
PRODID:-//wp-events-plugin.com//7.2.3.1//EN
TZID:Europe/Paris
X-WR-TIMEZONE:Europe/Paris
BEGIN:VEVENT
UID:5753@agenda24.fr
DTSTART;TZID=Europe/Paris:20250413T180000
DTEND;TZID=Europe/Paris:20250413T180000
DTSTAMP:20250326T135034Z
URL:https://agenda24.fr/evenements/concert-en-leglise-quatuor-austrasia/
SUMMARY:Concert en l'Église - Quatuor Austrasia
DESCRIPTION:"Les sept dernières paroles du Christ en croix" de Joseph Hayd
 n.
CATEGORIES:Concert
LOCATION:Eglise Saint-Martin\, Eglise Saint-Martin\, Coulaures\, France
GEO:45.307864;0.97982999
X-APPLE-STRUCTURED-LOCATION;VALUE=URI;X-ADDRESS=Eglise Saint-Martin\, Coula
 ures\, France;X-APPLE-RADIUS=100;X-TITLE=Eglise Saint-Martin:geo:45.307864
 ,0.97982999
END:VEVENT
BEGIN:VTIMEZONE
TZID:Europe/Paris
X-LIC-LOCATION:Europe/Paris
BEGIN:DAYLIGHT
DTSTART:20250330T030000
TZOFFSETFROM:+0100
TZOFFSETTO:+0200
TZNAME:CEST
END:DAYLIGHT
END:VTIMEZONE
END:VCALENDAR