BEGIN:VCALENDAR
VERSION:2.0
PRODID:-//wp-events-plugin.com//7.2.3.1//EN
TZID:Europe/Paris
X-WR-TIMEZONE:Europe/Paris
BEGIN:VEVENT
UID:5761@agenda24.fr
DTSTART;TZID=Europe/Paris:20250404T200000
DTEND;TZID=Europe/Paris:20250404T200000
DTSTAMP:20250326T135035Z
URL:https://agenda24.fr/evenements/concert-dessine-2/
SUMMARY:Concert dessiné
DESCRIPTION:La bulle dessinée organise un événement unique à Dordonha :
  un concert dessiné !\n\nPlus d'informations à venir...
CATEGORIES:Concert
LOCATION:Dordonha\, Place de la Petite Mission\, Bergerac\, France
GEO:44.851172;0.48306387
X-APPLE-STRUCTURED-LOCATION;VALUE=URI;X-ADDRESS=Place de la Petite Mission\
 , Bergerac\, France;X-APPLE-RADIUS=100;X-TITLE=Dordonha:geo:44.851172,0.48
 306387
END:VEVENT
BEGIN:VTIMEZONE
TZID:Europe/Paris
X-LIC-LOCATION:Europe/Paris
BEGIN:DAYLIGHT
DTSTART:20250330T030000
TZOFFSETFROM:+0100
TZOFFSETTO:+0200
TZNAME:CEST
END:DAYLIGHT
END:VTIMEZONE
END:VCALENDAR