BEGIN:VCALENDAR
VERSION:2.0
PRODID:-//wp-events-plugin.com//7.2.3.1//EN
TZID:Europe/Paris
X-WR-TIMEZONE:Europe/Paris
BEGIN:VEVENT
UID:5734@agenda24.fr
DTSTART;TZID=Europe/Paris:20250328T213000
DTEND;TZID=Europe/Paris:20250328T213000
DTSTAMP:20250326T135042Z
URL:https://agenda24.fr/evenements/concert-de-troy-petty/
SUMMARY:Concert de Troy Petty
DESCRIPTION:Né à Chicago et vivant en Allemagne\, Troy Petty est une forc
 e captivante de la scène musicale indépendante et alternative. Réputé 
 pour ses nombreuses tournées aux États-Unis et en Europe\, il s'apprête
  à sortir son album très attendu\, « The Only Way Out is Through »\, f
 in 2024.\n\nConcert gratuit
CATEGORIES:Concert
LOCATION:Lembarzique Café\, 31 route de Perigueux \, Lembras\, France
GEO:44.8839723;0.52465416
X-APPLE-STRUCTURED-LOCATION;VALUE=URI;X-ADDRESS=31 route de Perigueux \, Le
 mbras\, France;X-APPLE-RADIUS=100;X-TITLE=Lembarzique Café:geo:44.8839723
 ,0.52465416
END:VEVENT
BEGIN:VTIMEZONE
TZID:Europe/Paris
X-LIC-LOCATION:Europe/Paris
BEGIN:STANDARD
DTSTART:20241027T020000
TZOFFSETFROM:+0200
TZOFFSETTO:+0100
TZNAME:CET
END:STANDARD
END:VTIMEZONE
END:VCALENDAR