BEGIN:VCALENDAR
VERSION:2.0
PRODID:-//wp-events-plugin.com//7.2.3.1//EN
TZID:Europe/Paris
X-WR-TIMEZONE:Europe/Paris
BEGIN:VEVENT
UID:5733@agenda24.fr
DTSTART;TZID=Europe/Paris:20250405T213000
DTEND;TZID=Europe/Paris:20250405T213000
DTSTAMP:20250326T135042Z
URL:https://agenda24.fr/evenements/concert-de-joel-royer-quartet/
SUMMARY:Concert de Joël Royer Quartet
DESCRIPTION:Auteur\, compositeur & interprète bien connu des habitués des
  Mardis Acoustiques\, Joël Royer remonte sur scène pour un concert compl
 et accompagné de Marcel à la flûte\, de François à la contrebasse\, e
 t de Pauline au cajon ! \n\nConcert gratuit
CATEGORIES:Concert
LOCATION:Lembarzique Café\, 31 route de Perigueux \, Lembras\, France
GEO:44.8839723;0.52465416
X-APPLE-STRUCTURED-LOCATION;VALUE=URI;X-ADDRESS=31 route de Perigueux \, Le
 mbras\, France;X-APPLE-RADIUS=100;X-TITLE=Lembarzique Café:geo:44.8839723
 ,0.52465416
END:VEVENT
BEGIN:VTIMEZONE
TZID:Europe/Paris
X-LIC-LOCATION:Europe/Paris
BEGIN:DAYLIGHT
DTSTART:20250330T030000
TZOFFSETFROM:+0100
TZOFFSETTO:+0200
TZNAME:CEST
END:DAYLIGHT
END:VTIMEZONE
END:VCALENDAR