BEGIN:VCALENDAR
VERSION:2.0
PRODID:-//wp-events-plugin.com//7.2.3.1//EN
TZID:Europe/Paris
X-WR-TIMEZONE:Europe/Paris
BEGIN:VEVENT
UID:5760@agenda24.fr
DTSTART;TZID=Europe/Paris:20250329T200000
DTEND;TZID=Europe/Paris:20250329T200000
DTSTAMP:20250326T135035Z
URL:https://agenda24.fr/evenements/concert-de-chorale-2/
SUMMARY:Concert de Chorale
DESCRIPTION:Le samedi 29 mars 2025 à l'église de Gardonne\, plus de 50 ch
 oristes\, Conviv'Art et son groupe vocal "Vocal'Ease" accompagné par la c
 horale de Donzenac "Voc’All"\, vous proposent une soirée tout en musiqu
 e et en chansons.\n\nUne balade dans l'espace et dans le temps avec deux r
 écitals composés de variétés françaises et étrangères.
CATEGORIES:Concert
LOCATION:Eglise de Gardonne\, Rue de l'Église\, Gardonne\, France
GEO:44.837762;0.33244113
X-APPLE-STRUCTURED-LOCATION;VALUE=URI;X-ADDRESS=Rue de l'Église\, Gardonne
 \, France;X-APPLE-RADIUS=100;X-TITLE=Eglise de Gardonne:geo:44.837762,0.33
 244113
END:VEVENT
BEGIN:VTIMEZONE
TZID:Europe/Paris
X-LIC-LOCATION:Europe/Paris
BEGIN:STANDARD
DTSTART:20241027T020000
TZOFFSETFROM:+0200
TZOFFSETTO:+0100
TZNAME:CET
END:STANDARD
END:VTIMEZONE
END:VCALENDAR