BEGIN:VCALENDAR
VERSION:2.0
PRODID:-//wp-events-plugin.com//7.2.3.1//EN
TZID:Europe/Paris
X-WR-TIMEZONE:Europe/Paris
BEGIN:VEVENT
UID:5727@agenda24.fr
DTSTART;TZID=Europe/Paris:20250426T200000
DTEND;TZID=Europe/Paris:20250426T200000
DTSTAMP:20250326T135042Z
URL:https://agenda24.fr/evenements/concert-country-eric-ward/
SUMMARY:Concert Country - Eric Ward
DESCRIPTION:Girls & Boys Country Club organise une soirée concert de musiq
 ue country avec Eric Ward.\nOuverture des portes à 20h et début du conce
 rt à 21h.\n\nLes pâtisseries sont offertes !
CATEGORIES:Concert
LOCATION:Espace socio-culturel\, Place du groupe Loiseau\, Prigonrieux\, Fr
 ance
GEO:44.8551539;0.40238456
X-APPLE-STRUCTURED-LOCATION;VALUE=URI;X-ADDRESS=Place du groupe Loiseau\, P
 rigonrieux\, France;X-APPLE-RADIUS=100;X-TITLE=Espace socio-culturel:geo:4
 4.8551539,0.40238456
END:VEVENT
BEGIN:VTIMEZONE
TZID:Europe/Paris
X-LIC-LOCATION:Europe/Paris
BEGIN:DAYLIGHT
DTSTART:20250330T030000
TZOFFSETFROM:+0100
TZOFFSETTO:+0200
TZNAME:CEST
END:DAYLIGHT
END:VTIMEZONE
END:VCALENDAR