BEGIN:VCALENDAR
VERSION:2.0
PRODID:-//wp-events-plugin.com//7.2.3.1//EN
TZID:Europe/Paris
X-WR-TIMEZONE:Europe/Paris
BEGIN:VEVENT
UID:5745@agenda24.fr
DTSTART;TZID=Europe/Paris:20250412T180000
DTEND;TZID=Europe/Paris:20250412T180000
DTSTAMP:20250326T135035Z
URL:https://agenda24.fr/evenements/concert-classique-alter-duo/
SUMMARY:Concert classique: Alter Duo
DESCRIPTION:L'Alter Duo vous invite à un voyage musical\, " Mémoire d'Eur
 ope " mettant en valeur le lyrisme et la virtuosité de la contrebasse. Pe
 nsé autour de pièces originales et de transcriptions\, le programme alte
 rne subtilement œuvres de grands compositeurs et pièces moins connues ti
 rées du répertoire de la contrebasse\, Saint-Saëns\, M. de Falla\, G. B
 ottesini\, F. Chopin\, Beethoven\, Mozart\, R. Glière.\n\nJean-Baptiste M
 athulin (piano) et Julien Mathias (contrebasse) se sont rencontrés en 200
 2 au conservatoire de Saint-Etienne puis à Lyon et ont fondé l'Alter-Duo
  en 2015. \n\n17 € dans la nef\, 14 € en tribune\, adhérents 14 €\,
  gratuit pour les moins de 16 ans.\nÉglise chauffée\, pot offert dans la
  salle des fêtes à l'issue du concert.\n\n\n
CATEGORIES:Concert
LOCATION:Eglise Saint-Martial\, Eglise Saint-Martial \, Villars\, France
GEO:45.420004;0.75358043
X-APPLE-STRUCTURED-LOCATION;VALUE=URI;X-ADDRESS=Eglise Saint-Martial \, Vil
 lars\, France;X-APPLE-RADIUS=100;X-TITLE=Eglise Saint-Martial:geo:45.42000
 4,0.75358043
END:VEVENT
BEGIN:VTIMEZONE
TZID:Europe/Paris
X-LIC-LOCATION:Europe/Paris
BEGIN:DAYLIGHT
DTSTART:20250330T030000
TZOFFSETFROM:+0100
TZOFFSETTO:+0200
TZNAME:CEST
END:DAYLIGHT
END:VTIMEZONE
END:VCALENDAR