BEGIN:VCALENDAR
VERSION:2.0
PRODID:-//wp-events-plugin.com//7.2.3.1//EN
TZID:Europe/Paris
X-WR-TIMEZONE:Europe/Paris
BEGIN:VEVENT
UID:5746@agenda24.fr
DTSTART;TZID=Europe/Paris:20250329T200000
DTEND;TZID=Europe/Paris:20250329T200000
DTSTAMP:20250326T135042Z
URL:https://agenda24.fr/evenements/concert-chorale-carnet-de-notes/
SUMMARY:Concert chorale Carnet de Notes
DESCRIPTION:Envie de passer une bonne soirée!!!\nL'association K and Co vo
 us invite le samedi 29 Mars à 20h dans la salle des fêtes Jacques Préve
 rt de Port-Sainte-Foy afin de passer un bon moment avec sa chorale "CARNET
  DE NOTES" avec son répertoire aussi divers que dynamique basé sur la va
 riété\, la comédie musicale\, le jazz et le gospel.\nDes boissons et de
 s pâtisseries vous feront de l'oeil tout au long de la soirée...\nSi vou
 s désirez réserver au : 06 33 84 29 43
CATEGORIES:Concert
LOCATION:Salle des fêtes Jacques Prévert\, Salle des fêtes Jacques Prév
 ert\, Port-Sainte-Foy-et-Ponchapt\, France
GEO:44.8438599;0.21078553
X-APPLE-STRUCTURED-LOCATION;VALUE=URI;X-ADDRESS=Salle des fêtes Jacques Pr
 évert\, Port-Sainte-Foy-et-Ponchapt\, France;X-APPLE-RADIUS=100;X-TITLE=S
 alle des fêtes Jacques Prévert:geo:44.8438599,0.21078553
END:VEVENT
BEGIN:VTIMEZONE
TZID:Europe/Paris
X-LIC-LOCATION:Europe/Paris
BEGIN:STANDARD
DTSTART:20241027T020000
TZOFFSETFROM:+0200
TZOFFSETTO:+0100
TZNAME:CET
END:STANDARD
END:VTIMEZONE
END:VCALENDAR