BEGIN:VCALENDAR
VERSION:2.0
PRODID:-//wp-events-plugin.com//7.2.3.1//EN
TZID:Europe/Paris
X-WR-TIMEZONE:Europe/Paris
BEGIN:VEVENT
UID:9721@agenda24.fr
DTSTART;TZID=Europe/Paris:20251122T220000
DTEND;TZID=Europe/Paris:20251122T220000
DTSTAMP:20251101T090449Z
URL:https://agenda24.fr/evenements/concert-accordemon/
SUMMARY:Concert - Accordémon
DESCRIPTION:Chanteur accordéoniste / One man accordéon show survitaminé 
 à base de chanson française et "ritmos latinos"
CATEGORIES:Spectacle
LOCATION:Le Chat Pline\, 47 rue Lamy\, Thiviers\, France
GEO:45.41884;0.92211871
X-APPLE-STRUCTURED-LOCATION;VALUE=URI;X-ADDRESS=47 rue Lamy\, Thiviers\, Fr
 ance;X-APPLE-RADIUS=100;X-TITLE=Le Chat Pline:geo:45.41884,0.92211871
END:VEVENT
BEGIN:VTIMEZONE
TZID:Europe/Paris
X-LIC-LOCATION:Europe/Paris
BEGIN:STANDARD
DTSTART:20251026T020000
TZOFFSETFROM:+0200
TZOFFSETTO:+0100
TZNAME:CET
END:STANDARD
END:VTIMEZONE
END:VCALENDAR