BEGIN:VCALENDAR
VERSION:2.0
PRODID:-//wp-events-plugin.com//7.2.3.1//EN
TZID:Europe/Paris
X-WR-TIMEZONE:Europe/Paris
BEGIN:VEVENT
UID:5748@agenda24.fr
DTSTART;TZID=Europe/Paris:20250420T153000
DTEND;TZID=Europe/Paris:20250420T153000
DTSTAMP:20250326T135042Z
URL:https://agenda24.fr/evenements/concert-10/
SUMMARY:Concert
DESCRIPTION:La harpe fait son cinéma\n\nUn spectacle drôle et musical à 
 voir en famille\n\nMerci d’apporter votre chaise\n\nRéservation conseil
 lée par email : sophielaharpiste@gmail.com (car places limitées à 100 p
 ersonnes)\n\nCette animation est prévue à l'intérieur. 
CATEGORIES:Concert
LOCATION:Château du Clauzuroux\, 50 impasse du château de Clauzuroux\, Ch
 ampagne-et-Fontaine\, France
GEO:45.4099543;0.35559725
X-APPLE-STRUCTURED-LOCATION;VALUE=URI;X-ADDRESS=50 impasse du château de C
 lauzuroux\, Champagne-et-Fontaine\, France;X-APPLE-RADIUS=100;X-TITLE=Châ
 teau du Clauzuroux:geo:45.4099543,0.35559725
END:VEVENT
BEGIN:VTIMEZONE
TZID:Europe/Paris
X-LIC-LOCATION:Europe/Paris
BEGIN:DAYLIGHT
DTSTART:20250330T030000
TZOFFSETFROM:+0100
TZOFFSETTO:+0200
TZNAME:CEST
END:DAYLIGHT
END:VTIMEZONE
END:VCALENDAR