BEGIN:VCALENDAR
VERSION:2.0
PRODID:-//wp-events-plugin.com//7.2.3.1//EN
TZID:Europe/Paris
X-WR-TIMEZONE:Europe/Paris
BEGIN:VEVENT
UID:5283@agenda24.fr
DTSTART;TZID=Europe/Paris:20250228T170000
DTEND;TZID=Europe/Paris:20250228T170000
DTSTAMP:20250213T103002Z
URL:https://agenda24.fr/evenements/comedie-musicale-la-legende-du-roi-arth
 ur/
SUMMARY:Comédie musicale - La légende du Roi Arthur
DESCRIPTION:Vendredi 28 février à Saint-Aulaye (salle Joséphine Baker) 
 à 17h.\nL’association « Ruby’s » propose la comédie musicale «
  La légende du Roi Arthur» \nRenseignements :  contact.rubys24@gmail.co
 m\n
CATEGORIES:Spectacle
LOCATION:Salle Joséphine Baker\, Salle Joséphine Baker\, Saint-Aulaye\, F
 rance
GEO:45.2020146;0.13331893
X-APPLE-STRUCTURED-LOCATION;VALUE=URI;X-ADDRESS=Salle Joséphine Baker\, Sa
 int-Aulaye\, France;X-APPLE-RADIUS=100;X-TITLE=Salle Joséphine Baker:geo:
 45.2020146,0.13331893
END:VEVENT
BEGIN:VTIMEZONE
TZID:Europe/Paris
X-LIC-LOCATION:Europe/Paris
BEGIN:STANDARD
DTSTART:20241027T020000
TZOFFSETFROM:+0200
TZOFFSETTO:+0100
TZNAME:CET
END:STANDARD
END:VTIMEZONE
END:VCALENDAR