BEGIN:VCALENDAR
VERSION:2.0
PRODID:-//wp-events-plugin.com//7.2.3.1//EN
TZID:Europe/Paris
X-WR-TIMEZONE:Europe/Paris
BEGIN:VEVENT
UID:5744@agenda24.fr
DTSTART;TZID=Europe/Paris:20250426T150000
DTEND;TZID=Europe/Paris:20250426T164500
DTSTAMP:20250326T135035Z
URL:https://agenda24.fr/evenements/comedie-musicale-la-belle-histoire-des-
 comedies-musicales/
SUMMARY:Comédie musicale La belle histoire des comédies musicales
DESCRIPTION:Samedi 26 avril 2025 à 15h - Comédie musicale "La belle histo
 ire des comédies musicales"\n\nCette toute nouvelle création chantée pa
 r la Compagnie Trabucco sera l’occasion de découvrir et de redécouvrir
  les plus grandes chansons des Comédies Musicales Françaises.\nUn vérit
 able festival de grandes voix\, de costumes scintillants\, de grands perso
 nnages\, d’artistes éblouissants de talents. Vous vivrez des grands mom
 ents de spectacle musical : Starmania\, Mozart l’Opéra Rock\, Notre Dam
 e de Paris\, les Dix Commandements….\n\nOsez venir vous faire surprendre
  !\n\nSpectacle au théâtre l'Odyssée de Périgueux\nDurée : 1h45\, ave
 c 2 parties de 50 minutes et un entracte\, ouverture des portes à 14h.\n\
 nBilletterie et réservations : \nOffice de Tourisme du Grand Périgueux\n
 Office de Tourisme Destination Périgueux  - 9 Bis place du Coderc 24000 P
 ÉRIGUEUX - 05 53 02 80 22
CATEGORIES:Concert
LOCATION:Théâtre l'Odyssée\, Théâtre l'Odyssée\, Périgueux\, France
GEO:45.1846739;0.71712032
X-APPLE-STRUCTURED-LOCATION;VALUE=URI;X-ADDRESS=Théâtre l'Odyssée\, Pér
 igueux\, France;X-APPLE-RADIUS=100;X-TITLE=Théâtre l'Odyssée:geo:45.184
 6739,0.71712032
END:VEVENT
BEGIN:VTIMEZONE
TZID:Europe/Paris
X-LIC-LOCATION:Europe/Paris
BEGIN:DAYLIGHT
DTSTART:20250330T030000
TZOFFSETFROM:+0100
TZOFFSETTO:+0200
TZNAME:CEST
END:DAYLIGHT
END:VTIMEZONE
END:VCALENDAR