BEGIN:VCALENDAR
VERSION:2.0
PRODID:-//wp-events-plugin.com//7.2.3.1//EN
TZID:Europe/Paris
X-WR-TIMEZONE:Europe/Paris
BEGIN:VEVENT
UID:10346@agenda24.fr
DTSTART;TZID=Europe/Paris:20251214T143000
DTEND;TZID=Europe/Paris:20251214T143000
DTSTAMP:20251210T135536Z
URL:https://agenda24.fr/evenements/comedie-musicale-bollywood-masala-2/
SUMMARY:Comédie musicale | Bollywood Masala
DESCRIPTION:Indigo Productions est fier de présenter une toute nouvelle co
 médie musicale épicée intitule´ Bollywood Masala\, venant directement 
 de la cite´ du cinéma : Bombay.\n\nCréée par Toby Gough\, le scénaris
 te et metteur en scène prime´ de La Fabuleuse Histoire de Bollywood et T
 aj Express — tous deux chorégraphiés par les sœurs stars Vaibhavi et 
 Shruti Merchant. Le spectacle regorgera de danses entrainantes\, de costum
 es colorés\, de romance épique\, de comédie\, et de toutes les chansons
  a` succès de vos films Bollywood préférés comme Devdas\, Lagaan\, Dho
 om\, et la chanson oscarisée “Naatu Naatu” du film RRR.\n\nSur réser
 vation.
CATEGORIES:Spectacle
LOCATION:Centre événementiel de Bergerac\, 1 Allée Lucien Videau\, Berge
 rac\, France
GEO:44.8463882;0.4984139
X-APPLE-STRUCTURED-LOCATION;VALUE=URI;X-ADDRESS=1 Allée Lucien Videau\, Be
 rgerac\, France;X-APPLE-RADIUS=100;X-TITLE=Centre événementiel de Berger
 ac:geo:44.8463882,0.4984139
END:VEVENT
BEGIN:VTIMEZONE
TZID:Europe/Paris
X-LIC-LOCATION:Europe/Paris
BEGIN:STANDARD
DTSTART:20251026T020000
TZOFFSETFROM:+0200
TZOFFSETTO:+0100
TZNAME:CET
END:STANDARD
END:VTIMEZONE
END:VCALENDAR