BEGIN:VCALENDAR
VERSION:2.0
PRODID:-//wp-events-plugin.com//7.2.3.1//EN
TZID:Europe/Paris
X-WR-TIMEZONE:Europe/Paris
BEGIN:VEVENT
UID:4469@agenda24.fr
DTSTART;TZID=Europe/Paris:20250124T190000
DTEND;TZID=Europe/Paris:20250124T190000
DTSTAMP:20241214T154100Z
URL:https://agenda24.fr/evenements/comedie-moderne-piece-en-plastique/
SUMMARY:Comédie moderne | Pièce en Plastique
DESCRIPTION:
CATEGORIES:Spectacle
LOCATION:Espace culturel L'Éden\, Avenue de la Bastide\, Eymet\, France
GEO:44.6686917;0.39767896
X-APPLE-STRUCTURED-LOCATION;VALUE=URI;X-ADDRESS=Avenue de la Bastide\, Eyme
 t\, France;X-APPLE-RADIUS=100;X-TITLE=Espace culturel L'Éden:geo:44.66869
 17,0.39767896
END:VEVENT
BEGIN:VTIMEZONE
TZID:Europe/Paris
X-LIC-LOCATION:Europe/Paris
BEGIN:STANDARD
DTSTART:20241027T020000
TZOFFSETFROM:+0200
TZOFFSETTO:+0100
TZNAME:CET
END:STANDARD
END:VTIMEZONE
END:VCALENDAR