BEGIN:VCALENDAR
VERSION:2.0
PRODID:-//wp-events-plugin.com//7.2.3.1//EN
TZID:Europe/Paris
X-WR-TIMEZONE:Europe/Paris
BEGIN:VEVENT
UID:5129@agenda24.fr
DTSTART;TZID=Europe/Paris:20250218T170000
DTEND;TZID=Europe/Paris:20250218T190000
DTSTAMP:20250213T093412Z
URL:https://agenda24.fr/evenements/club-de-lecture-potages-et-papotages/
SUMMARY:Club de lecture « Potages et papotages »
DESCRIPTION:Partages et découvertes dans la convivialité\, la simplicité
  et l'écoute... voici la définition de nos rencontres mensuelles du "clu
 b de lecture"  \nVos coups de coeur animés par Nathalie\n(Gratuit sur ins
 cription) 
CATEGORIES:Rencontre / Conférence / Discussion
LOCATION:Médiathèque Municipale de Carsac-Aillac\, Le bourg\, Carsac-Aill
 ac\, France
GEO:44.8406971;1.27577638
X-APPLE-STRUCTURED-LOCATION;VALUE=URI;X-ADDRESS=Le bourg\, Carsac-Aillac\, 
 France;X-APPLE-RADIUS=100;X-TITLE=Médiathèque Municipale de Carsac-Ailla
 c:geo:44.8406971,1.27577638
END:VEVENT
BEGIN:VTIMEZONE
TZID:Europe/Paris
X-LIC-LOCATION:Europe/Paris
BEGIN:STANDARD
DTSTART:20241027T020000
TZOFFSETFROM:+0200
TZOFFSETTO:+0100
TZNAME:CET
END:STANDARD
END:VTIMEZONE
END:VCALENDAR