BEGIN:VCALENDAR
VERSION:2.0
PRODID:-//wp-events-plugin.com//7.2.3.1//EN
TZID:Europe/Paris
X-WR-TIMEZONE:Europe/Paris
BEGIN:VEVENT
UID:10998@agenda24.fr
DTSTART;TZID=Europe/Paris:20260330T183000
DTEND;TZID=Europe/Paris:20260330T183000
DTSTAMP:20260425T193626Z
URL:
SUMMARY:Club Bacchus
DESCRIPTION:Vivez une expérience œnologique autour d'un parcours de déco
 uvertes – initiations – formation à la dégustation des vins de Berge
 rac et Duras dans des domaines partenaires.\n\nEn date du 30 mars : \nThè
 me : Les arômes du vin\nSéance à Quai Cyrano\nContenu :\n•	Les arôme
 s dans le vin\n•	Dégustation de vins avec des verres noirs \n•	« Com
 ment améliorer le goût d’un vin avant de le boire »\n\n*Les contenus 
 et les dates des séances sont donnés à titre indicatif et sont suscepti
 bles d’être modifiés.
LOCATION:Studio Association Ribambelle\, Studio Association Ribambelle\, Qu
 eyssac\, France
GEO:44.9063850;0.5487930
X-APPLE-STRUCTURED-LOCATION;VALUE=URI;X-ADDRESS=Studio Association Ribambel
 le\, Queyssac\, France;X-APPLE-RADIUS=100;X-TITLE=Studio Association Ribam
 belle:geo:44.9063850,0.5487930
END:VEVENT
BEGIN:VTIMEZONE
TZID:Europe/Paris
X-LIC-LOCATION:Europe/Paris
BEGIN:DAYLIGHT
DTSTART:20260329T030000
TZOFFSETFROM:+0100
TZOFFSETTO:+0200
TZNAME:CEST
END:DAYLIGHT
END:VTIMEZONE
END:VCALENDAR