BEGIN:VCALENDAR
VERSION:2.0
PRODID:-//wp-events-plugin.com//7.2.3.1//EN
TZID:Europe/Paris
X-WR-TIMEZONE:Europe/Paris
BEGIN:VEVENT
UID:11810@agenda24.fr
DTSTART;TZID=Europe/Paris:20260328T093000
DTEND;TZID=Europe/Paris:20260328T123000
DTSTAMP:20260302T085432Z
URL:https://agenda24.fr/evenements/stage-dessin-peinture-le-dessin-animali
 er-par-floriane-virgo/
SUMMARY:Stage dessin-peinture : Le Dessin Animalier par Floriane VIRGO
DESCRIPTION:STAGE DESSIN/PEINTURE\nTOUS NIVEAUX\n\nLE DESSIN ANIMALIER\n\nV
 ous apprendrez à observer et à retranscrire au crayon la posture et le c
 aractère propre à différents types d’animaux. Vous travaillerez trame
 s et nuances pour rendre volume et texture des pelages ou des plumages.\n\
 nSelon le niveau\, une mise en couleur pourra ensuite être réalisée aux
  crayons pastel ou crayons aquarellables pour donner présence et vie à v
 os dessins !\n\nSAMEDI 28 MARS\n9H30–12H30\nOU\n14H30–17H30\n\n3H – 
 55€/PERS\nMATÉRIEL COMPRIS\n8 PERSONNES
CATEGORIES:Atelier / Stage
LOCATION:Atelier Matière Terre\, 34 rue Président Wilson\, Périgueux\, F
 rance
GEO:45.1849404;0.71431234
X-APPLE-STRUCTURED-LOCATION;VALUE=URI;X-ADDRESS=34 rue Président Wilson\, 
 Périgueux\, France;X-APPLE-RADIUS=100;X-TITLE=Atelier Matière Terre:geo:
 45.1849404,0.71431234
END:VEVENT
BEGIN:VTIMEZONE
TZID:Europe/Paris
X-LIC-LOCATION:Europe/Paris
BEGIN:STANDARD
DTSTART:20251026T020000
TZOFFSETFROM:+0200
TZOFFSETTO:+0100
TZNAME:CET
END:STANDARD
END:VTIMEZONE
END:VCALENDAR