BEGIN:VCALENDAR
VERSION:2.0
PRODID:-//wp-events-plugin.com//7.2.3.1//EN
TZID:Europe/Paris
X-WR-TIMEZONE:Europe/Paris
BEGIN:VEVENT
UID:10348@agenda24.fr
DTSTART;TZID=Europe/Paris:20251217T150000
DTEND;TZID=Europe/Paris:20251217T150000
DTSTAMP:20251210T135536Z
URL:https://agenda24.fr/evenements/cirque-el-chuflini-pestacle/
SUMMARY:Cirque : "El Chuflini Pestacle"
DESCRIPTION:“El Chuflini Pestacle” Un spectacle amusant mélangeant jon
 gles\, catastrophes et fous rires.\nGoûter offert après le spectacle.\n\
 n15h- Théâtre de la Poivrière. \n\nRéservation par sms\, Tarifs : 5€
 / personne.\n\nThéâtre de la Poivrière 06 84 82 45 01 / 05 53 03 54 61
CATEGORIES:Spectacle
LOCATION:Théâtre La Poivrière\, 2 place Saint Astier\, Saint-Astier\, Fr
 ance
GEO:45.1453641;0.52920151
X-APPLE-STRUCTURED-LOCATION;VALUE=URI;X-ADDRESS=2 place Saint Astier\, Sain
 t-Astier\, France;X-APPLE-RADIUS=100;X-TITLE=Théâtre La Poivrière:geo:4
 5.1453641,0.52920151
END:VEVENT
BEGIN:VTIMEZONE
TZID:Europe/Paris
X-LIC-LOCATION:Europe/Paris
BEGIN:STANDARD
DTSTART:20251026T020000
TZOFFSETFROM:+0200
TZOFFSETTO:+0100
TZNAME:CET
END:STANDARD
END:VTIMEZONE
END:VCALENDAR