BEGIN:VCALENDAR
VERSION:2.0
PRODID:-//wp-events-plugin.com//7.2.3.1//EN
TZID:Europe/Paris
X-WR-TIMEZONE:Europe/Paris
BEGIN:VEVENT
UID:4483@agenda24.fr
DTSTART;TZID=Europe/Paris:20241217T100000
DTEND;TZID=Europe/Paris:20241217T100000
DTSTAMP:20241214T154100Z
URL:https://agenda24.fr/evenements/cirque-double-take-cinematic-circus-jum
 p-cut/
SUMMARY:Cirque - Double Take – Cinematic Circus "JUMP CUT"
DESCRIPTION:
CATEGORIES:Spectacle
LOCATION:Centre Culturel\, Centre Culturel\, Sarlat-La-Canéda\, France
GEO:44.8908910;1.2172920
X-APPLE-STRUCTURED-LOCATION;VALUE=URI;X-ADDRESS=Centre Culturel\, Sarlat-La
 -Canéda\, France;X-APPLE-RADIUS=100;X-TITLE=Centre Culturel:geo:44.890891
 0,1.2172920
END:VEVENT
BEGIN:VTIMEZONE
TZID:Europe/Paris
X-LIC-LOCATION:Europe/Paris
BEGIN:STANDARD
DTSTART:20241027T020000
TZOFFSETFROM:+0200
TZOFFSETTO:+0100
TZNAME:CET
END:STANDARD
END:VTIMEZONE
END:VCALENDAR