BEGIN:VCALENDAR
VERSION:2.0
PRODID:-//wp-events-plugin.com//7.2.3.1//EN
TZID:Europe/Paris
X-WR-TIMEZONE:Europe/Paris
BEGIN:VEVENT
UID:4037@agenda24.fr
DTSTART;TZID=Europe/Paris:20241031T143000
DTEND;TZID=Europe/Paris:20241031T143000
DTSTAMP:20241030T091139Z
URL:https://agenda24.fr/evenements/cinema/
SUMMARY:Cinéma
DESCRIPTION:
CATEGORIES:Cinéma
LOCATION:Bourg\, Salle des fêtes\, Saint-Laurent-La-Vallee\, France
GEO:44.7503967;1.10990667
X-APPLE-STRUCTURED-LOCATION;VALUE=URI;X-ADDRESS=Salle des fêtes\, Saint-La
 urent-La-Vallee\, France;X-APPLE-RADIUS=100;X-TITLE=Bourg:geo:44.7503967,1
 .10990667
END:VEVENT
BEGIN:VTIMEZONE
TZID:Europe/Paris
X-LIC-LOCATION:Europe/Paris
BEGIN:STANDARD
DTSTART:20241027T020000
TZOFFSETFROM:+0200
TZOFFSETTO:+0100
TZNAME:CET
END:STANDARD
END:VTIMEZONE
END:VCALENDAR