BEGIN:VCALENDAR
VERSION:2.0
PRODID:-//wp-events-plugin.com//7.2.3.1//EN
TZID:Europe/Paris
X-WR-TIMEZONE:Europe/Paris
BEGIN:VEVENT
UID:4039@agenda24.fr
DTSTART;TZID=Europe/Paris:20241127T203000
DTEND;TZID=Europe/Paris:20241127T203000
DTSTAMP:20241030T091139Z
URL:https://agenda24.fr/evenements/cinema-monsieur-aznavour/
SUMMARY:Cinéma - Monsieur Aznavour
DESCRIPTION:
CATEGORIES:Cinéma
LOCATION:Salle du Dolmen\, Peyrelevade\, Brantôme\, France
GEO:45.3619518;0.66448286
X-APPLE-STRUCTURED-LOCATION;VALUE=URI;X-ADDRESS=Peyrelevade\, Brantôme\, F
 rance;X-APPLE-RADIUS=100;X-TITLE=Salle du Dolmen:geo:45.3619518,0.66448286
END:VEVENT
BEGIN:VTIMEZONE
TZID:Europe/Paris
X-LIC-LOCATION:Europe/Paris
BEGIN:STANDARD
DTSTART:20241027T020000
TZOFFSETFROM:+0200
TZOFFSETTO:+0100
TZNAME:CET
END:STANDARD
END:VTIMEZONE
END:VCALENDAR