BEGIN:VCALENDAR
VERSION:2.0
PRODID:-//wp-events-plugin.com//7.2.3.1//EN
TZID:Europe/Paris
X-WR-TIMEZONE:Europe/Paris
BEGIN:VEVENT
UID:4043@agenda24.fr
DTSTART;TZID=Europe/Paris:20241031T203000
DTEND;TZID=Europe/Paris:20241031T203000
DTSTAMP:20241030T091138Z
URL:https://agenda24.fr/evenements/cine-passion-ma-vie-ma-gueule/
SUMMARY:Ciné passion - Ma vie ma gueule
DESCRIPTION:
CATEGORIES:Cinéma
LOCATION:Salle Jacques Brel\, Salle Jacques Brel\, Lalinde\, France
GEO:44.83604;0.7401
X-APPLE-STRUCTURED-LOCATION;VALUE=URI;X-ADDRESS=Salle Jacques Brel\, Lalind
 e\, France;X-APPLE-RADIUS=100;X-TITLE=Salle Jacques Brel:geo:44.83604,0.74
 01
END:VEVENT
BEGIN:VTIMEZONE
TZID:Europe/Paris
X-LIC-LOCATION:Europe/Paris
BEGIN:STANDARD
DTSTART:20241027T020000
TZOFFSETFROM:+0200
TZOFFSETTO:+0100
TZNAME:CET
END:STANDARD
END:VTIMEZONE
END:VCALENDAR